BEGIN:VCALENDAR
VERSION:2.0
PRODID:icalendar-ruby
CALSCALE:GREGORIAN
METHOD:PUBLISH
BEGIN:VEVENT
DTSTAMP:20260423T084634Z
UID:5-741999@alumcreekfriendschurch.org
DTSTART:20261011T140000Z
DTEND:20261011T150000Z
CLASS:PUBLIC
CREATED:20260422T224245
DESCRIPTION:Join us as we Worship and Praise our Lord and Savior\, Jesus Ch
 rist. \n\n\nGreeting\nPraise and Worship\nTraditional Hymns\nPrayer\nCont
 empory Songs\nTithes &amp\; Offering\nFellowship\nMessage from the Word\n\
 n\n\n \n\n\n\n 
LAST-MODIFIED:20260422T224245
LOCATION:Alum Creek Friends Church
SUMMARY:Sunday Worship Service
URL;VALUE=URI:https://alumcreekfriendschurch.org/events/sunday-worship-serv
 ice/2026-10-11
END:VEVENT
END:VCALENDAR
