BEGIN:VCALENDAR
VERSION:2.0
PRODID:icalendar-ruby
CALSCALE:GREGORIAN
METHOD:PUBLISH
BEGIN:VEVENT
DTSTAMP:20260423T140822Z
UID:5-742599@alumcreekfriendschurch.org
DTSTART:20261101T150000Z
DTEND:20261101T160000Z
CLASS:PUBLIC
CREATED:20260423T081304
DESCRIPTION:Join us as we Worship and Praise our Lord and Savior\, Jesus Ch
 rist. \n\n\nGreeting\nPraise and Worship\nTraditional Hymns\nPrayer\nCont
 empory Songs\nTithes &amp\; Offering\nFellowship\nMessage from the Word\n\
 n\n\n \n\n\n\n 
LAST-MODIFIED:20260423T081304
LOCATION:Alum Creek Friends Church
SUMMARY:Sunday Worship Service
URL;VALUE=URI:https://alumcreekfriendschurch.org/events/sunday-worship-serv
 ice/2026-11-01
END:VEVENT
END:VCALENDAR
